BEGIN:VCALENDAR
VERSION:2.0
PRODID:-//Graduate School of Business - ECPv6.15.20//NONSGML v1.0//EN
CALSCALE:GREGORIAN
METHOD:PUBLISH
X-ORIGINAL-URL:https://gsb.usm.my
X-WR-CALDESC:Events for Graduate School of Business
REFRESH-INTERVAL;VALUE=DURATION:PT1H
X-Robots-Tag:noindex
X-PUBLISHED-TTL:PT1H
BEGIN:VTIMEZONE
TZID:Asia/Kuala_Lumpur
BEGIN:STANDARD
TZOFFSETFROM:+0800
TZOFFSETTO:+0800
TZNAME:+08
DTSTART:20230101T000000
END:STANDARD
END:VTIMEZONE
BEGIN:VEVENT
DTSTART;TZID=Asia/Kuala_Lumpur:20240522T100000
DTEND;TZID=Asia/Kuala_Lumpur:20240522T120000
DTSTAMP:20260425T054331
CREATED:20240520T044000Z
LAST-MODIFIED:20240520T044000Z
UID:4045-1716372000-1716379200@gsb.usm.my
SUMMARY:A STEP-BY-STEP GUIDE TO DEVELOPING YOUR NEXT RESEARCH MODEL WITH AI TOOLS
DESCRIPTION:Dear Esteemed Colleagues\,\n\nGlobal Strategy and Organizational Behaviour Cluster would like to extend a cordial invitation to join us for an engaging workshop. We anticipate that this workshop will serve as a catalyst for exploring innovative avenues in the development of future research models. See you there.\n\nMeeting Link: https://usm-cmr.webex.com/usm-cmr/j.php?MTID=m32ed5e89f4ac3a7497c58e791bc9b294
URL:https://gsb.usm.my/event/a-step-by-step-guide-to-developing-your-next-research-model-with-ai-tools/
END:VEVENT
END:VCALENDAR