BEGIN:VCALENDAR
VERSION:2.0
PRODID:-//Graduate School of Business - ECPv6.15.20//NONSGML v1.0//EN
CALSCALE:GREGORIAN
METHOD:PUBLISH
X-WR-CALNAME:Graduate School of Business
X-ORIGINAL-URL:https://gsb.usm.my
X-WR-CALDESC:Events for Graduate School of Business
REFRESH-INTERVAL;VALUE=DURATION:PT1H
X-Robots-Tag:noindex
X-PUBLISHED-TTL:PT1H
BEGIN:VTIMEZONE
TZID:Asia/Kuala_Lumpur
BEGIN:STANDARD
TZOFFSETFROM:+0800
TZOFFSETTO:+0800
TZNAME:+08
DTSTART:20230101T000000
END:STANDARD
END:VTIMEZONE
BEGIN:VEVENT
DTSTART;TZID=Asia/Kuala_Lumpur:20240621T090000
DTEND;TZID=Asia/Kuala_Lumpur:20240621T170000
DTSTAMP:20260424T054521
CREATED:20240620T073713Z
LAST-MODIFIED:20240620T073713Z
UID:4343-1718960400-1718989200@gsb.usm.my
SUMMARY:WORKSHOP ON 'SECURING LARGE GRANT AWARDS: HEAR FROM THE EXPERTS'
DESCRIPTION:
URL:https://gsb.usm.my/event/workshop-on-securing-large-grant-awards-hear-from-the-experts/
END:VEVENT
END:VCALENDAR