BEGIN:VCALENDAR
VERSION:2.0
PRODID:-//Graduate School of Business - ECPv6.15.20//NONSGML v1.0//EN
CALSCALE:GREGORIAN
METHOD:PUBLISH
X-ORIGINAL-URL:https://gsb.usm.my
X-WR-CALDESC:Events for Graduate School of Business
REFRESH-INTERVAL;VALUE=DURATION:PT1H
X-Robots-Tag:noindex
X-PUBLISHED-TTL:PT1H
BEGIN:VTIMEZONE
TZID:Asia/Kuala_Lumpur
BEGIN:STANDARD
TZOFFSETFROM:+0800
TZOFFSETTO:+0800
TZNAME:+08
DTSTART:20230101T000000
END:STANDARD
END:VTIMEZONE
BEGIN:VEVENT
DTSTART;TZID=Asia/Kuala_Lumpur:20240623T090000
DTEND;TZID=Asia/Kuala_Lumpur:20240627T170000
DTSTAMP:20260421T203938
CREATED:20240429T073716Z
LAST-MODIFIED:20240510T125832Z
UID:3982-1719133200-1719507600@gsb.usm.my
SUMMARY:ISCME 2024 conference
DESCRIPTION:The Graduate School of Business (GSB) is collaborating with the Technical University of Sofia\, Bulgaria\, and the Global Academic Forum on Technology Innovation & Management (GAFTIM) in Dubai to jointly organize the International Scientific Conference on Management & Engineering\, which will be held from June 23 to 27\, 2024\, at the “Learning and Sports Rehabilitation Facility” “Lazur” in Sozopol\, Bulgaria. \nAll submitted full papers will undergo a blind review process. Each submitted article will be reviewed by at least three peer reviewers. Upon acceptance\, at least one author must register and present the paper\, either physically or virtually. Selected papers will be published through Springer and will be SCOPUS indexed\, based on quality\, suitability\, and recommendations from the conference committee\, following anonymous and independent peer review. \nAttached is the flyer for the ISCME 2024 conference. Below are more details about the conference. \nConference website: https://iscme.tu-iiim.org/index.php/enghome \nPapers need to be submitted at: https://cmt3.research.microsoft.com/User/Login?ReturnUrl=%2FISCME2024 \n 
URL:https://gsb.usm.my/event/iscme-2024-conference/
END:VEVENT
END:VCALENDAR