BEGIN:VCALENDAR
VERSION:2.0
PRODID:-//Graduate School of Business - ECPv6.15.20//NONSGML v1.0//EN
CALSCALE:GREGORIAN
METHOD:PUBLISH
X-WR-CALNAME:Graduate School of Business
X-ORIGINAL-URL:https://gsb.usm.my
X-WR-CALDESC:Events for Graduate School of Business
REFRESH-INTERVAL;VALUE=DURATION:PT1H
X-Robots-Tag:noindex
X-PUBLISHED-TTL:PT1H
BEGIN:VTIMEZONE
TZID:Asia/Kuala_Lumpur
BEGIN:STANDARD
TZOFFSETFROM:+0800
TZOFFSETTO:+0800
TZNAME:+08
DTSTART:20230101T000000
END:STANDARD
END:VTIMEZONE
BEGIN:VEVENT
DTSTART;TZID=Asia/Kuala_Lumpur:20240807T143000
DTEND;TZID=Asia/Kuala_Lumpur:20240807T163000
DTSTAMP:20260422T043811
CREATED:20240811T163030Z
LAST-MODIFIED:20240811T163304Z
UID:4553-1723041000-1723048200@gsb.usm.my
SUMMARY:Workshop on "what does it mean by research & publication impact?"
DESCRIPTION:
URL:https://gsb.usm.my/event/4553/
END:VEVENT
END:VCALENDAR