BEGIN:VCALENDAR
VERSION:2.0
PRODID:-//Graduate School of Business - ECPv6.15.20//NONSGML v1.0//EN
CALSCALE:GREGORIAN
METHOD:PUBLISH
X-WR-CALNAME:Graduate School of Business
X-ORIGINAL-URL:https://gsb.usm.my
X-WR-CALDESC:Events for Graduate School of Business
REFRESH-INTERVAL;VALUE=DURATION:PT1H
X-Robots-Tag:noindex
X-PUBLISHED-TTL:PT1H
BEGIN:VTIMEZONE
TZID:Asia/Kuala_Lumpur
BEGIN:STANDARD
TZOFFSETFROM:+0800
TZOFFSETTO:+0800
TZNAME:+08
DTSTART:20230101T000000
END:STANDARD
END:VTIMEZONE
BEGIN:VEVENT
DTSTART;TZID=Asia/Kuala_Lumpur:20240807T143000
DTEND;TZID=Asia/Kuala_Lumpur:20240807T163000
DTSTAMP:20260422T030231
CREATED:20240811T163030Z
LAST-MODIFIED:20240811T163304Z
UID:4553-1723041000-1723048200@gsb.usm.my
SUMMARY:Workshop on "what does it mean by research & publication impact?"
DESCRIPTION:
URL:https://gsb.usm.my/event/4553/
END:VEVENT
BEGIN:VEVENT
DTSTART;TZID=Asia/Kuala_Lumpur:20240815T093000
DTEND;TZID=Asia/Kuala_Lumpur:20240815T160000
DTSTAMP:20260422T030231
CREATED:20240811T163830Z
LAST-MODIFIED:20240811T163830Z
UID:4558-1723714200-1723737600@gsb.usm.my
SUMMARY:Research workshop on crafting business and management proposals for MYGRANT: Insights from the selection panel
DESCRIPTION:
URL:https://gsb.usm.my/event/research-workshop-on-crafting-business-and-management-proposals-for-mygrant-insights-from-the-selection-panel/
END:VEVENT
BEGIN:VEVENT
DTSTART;TZID=Asia/Kuala_Lumpur:20240826T090000
DTEND;TZID=Asia/Kuala_Lumpur:20240826T160000
DTSTAMP:20260422T030231
CREATED:20240822T065121Z
LAST-MODIFIED:20240822T065305Z
UID:4659-1724662800-1724688000@gsb.usm.my
SUMMARY:Workshop on sustainable futures: A transdisciplinary research
DESCRIPTION:
URL:https://gsb.usm.my/event/workshop-on-sustainable-futures-a-transdisciplinary-research/
END:VEVENT
END:VCALENDAR